BEGIN:VCALENDAR
VERSION:2.0
PRODID:-//Florida DECA - ECPv6.15.20//NONSGML v1.0//EN
CALSCALE:GREGORIAN
METHOD:PUBLISH
X-WR-CALNAME:Florida DECA
X-ORIGINAL-URL:https://fldeca.org
X-WR-CALDESC:Events for Florida DECA
REFRESH-INTERVAL;VALUE=DURATION:PT1H
X-Robots-Tag:noindex
X-PUBLISHED-TTL:PT1H
BEGIN:VTIMEZONE
TZID:America/New_York
BEGIN:DAYLIGHT
TZOFFSETFROM:-0500
TZOFFSETTO:-0400
TZNAME:EDT
DTSTART:20250309T070000
END:DAYLIGHT
BEGIN:STANDARD
TZOFFSETFROM:-0400
TZOFFSETTO:-0500
TZNAME:EST
DTSTART:20251102T060000
END:STANDARD
BEGIN:DAYLIGHT
TZOFFSETFROM:-0500
TZOFFSETTO:-0400
TZNAME:EDT
DTSTART:20260308T070000
END:DAYLIGHT
BEGIN:STANDARD
TZOFFSETFROM:-0400
TZOFFSETTO:-0500
TZNAME:EST
DTSTART:20261101T060000
END:STANDARD
BEGIN:DAYLIGHT
TZOFFSETFROM:-0500
TZOFFSETTO:-0400
TZNAME:EDT
DTSTART:20270314T070000
END:DAYLIGHT
BEGIN:STANDARD
TZOFFSETFROM:-0400
TZOFFSETTO:-0500
TZNAME:EST
DTSTART:20271107T060000
END:STANDARD
END:VTIMEZONE
BEGIN:VEVENT
DTSTART;VALUE=DATE:20260418
DTEND;VALUE=DATE:20260422
DTSTAMP:20260417T175811
CREATED:20251030T184541Z
LAST-MODIFIED:20251030T184541Z
UID:1433-1776470400-1776815999@fldeca.org
SUMMARY:Collegiate ICDC (Louisville\, KY)
DESCRIPTION:The Collegiate International Career Development Conference brings together Collegiate DECA members from around the world for high-level competition\, leadership academies\, and networking with top companies and professionals. It’s the ultimate celebration of the DECA year.
URL:https://fldeca.org/event/collegiate-icdc-louisville-ky/
CATEGORIES:Collegiate Calendar
END:VEVENT
BEGIN:VEVENT
DTSTART;VALUE=DATE:20260425
DTEND;VALUE=DATE:20260429
DTSTAMP:20260417T175811
CREATED:20250626T203158Z
LAST-MODIFIED:20251030T183527Z
UID:732-1777075200-1777420799@fldeca.org
SUMMARY:ICDC (Atlanta\, GA)
DESCRIPTION:ICDC is DECA’s largest and most prestigious event\, bringing together top competitors from across the globe. Students who qualify at their state conferences will compete at the international level\, network with peers and professionals\, and attend advanced leadership academies. With more than 20\,000 attendees\, ICDC is a once-in-a-lifetime experience that highlights the best of DECA’s mission to prepare emerging leaders and entrepreneurs.
URL:https://fldeca.org/event/icdc/
LOCATION:Georgia World Congress Center\, 285 Andrew Young International Blvd NW\, Atlanta\, GA\, 30313
CATEGORIES:FL DECA Calendar
END:VEVENT
END:VCALENDAR