BEGIN:VCALENDAR
VERSION:2.0
PRODID:-//Florida DECA - ECPv6.15.20//NONSGML v1.0//EN
CALSCALE:GREGORIAN
METHOD:PUBLISH
X-WR-CALNAME:Florida DECA
X-ORIGINAL-URL:https://fldeca.org
X-WR-CALDESC:Events for Florida DECA
REFRESH-INTERVAL;VALUE=DURATION:PT1H
X-Robots-Tag:noindex
X-PUBLISHED-TTL:PT1H
BEGIN:VTIMEZONE
TZID:America/New_York
BEGIN:DAYLIGHT
TZOFFSETFROM:-0500
TZOFFSETTO:-0400
TZNAME:EDT
DTSTART:20240310T070000
END:DAYLIGHT
BEGIN:STANDARD
TZOFFSETFROM:-0400
TZOFFSETTO:-0500
TZNAME:EST
DTSTART:20241103T060000
END:STANDARD
BEGIN:DAYLIGHT
TZOFFSETFROM:-0500
TZOFFSETTO:-0400
TZNAME:EDT
DTSTART:20250309T070000
END:DAYLIGHT
BEGIN:STANDARD
TZOFFSETFROM:-0400
TZOFFSETTO:-0500
TZNAME:EST
DTSTART:20251102T060000
END:STANDARD
BEGIN:DAYLIGHT
TZOFFSETFROM:-0500
TZOFFSETTO:-0400
TZNAME:EDT
DTSTART:20260308T070000
END:DAYLIGHT
BEGIN:STANDARD
TZOFFSETFROM:-0400
TZOFFSETTO:-0500
TZNAME:EST
DTSTART:20261101T060000
END:STANDARD
END:VTIMEZONE
BEGIN:VEVENT
DTSTART;VALUE=DATE:20251103
DTEND;VALUE=DATE:20251115
DTSTAMP:20260422T203225
CREATED:20251030T184859Z
LAST-MODIFIED:20251030T184936Z
UID:1440-1762128000-1763164799@fldeca.org
SUMMARY:Virtual Case Simulation
DESCRIPTION:This online challenge gives participants the chance to experience realistic business scenarios and test their problem-solving\, analytical\, and leadership skills. Students apply DECA principles to virtual simulations designed to mirror real-world challenges.
URL:https://fldeca.org/event/virtual-case-simulation/
CATEGORIES:Collegiate Calendar
END:VEVENT
BEGIN:VEVENT
DTSTART;VALUE=DATE:20251024
DTEND;VALUE=DATE:20251027
DTSTAMP:20260422T203225
CREATED:20250626T194823Z
LAST-MODIFIED:20251030T183714Z
UID:716-1761264000-1761523199@fldeca.org
SUMMARY:Envision Fall Leadership Conference (Tampa)
DESCRIPTION:(Cap of 400 students) \nFlorida DECA’s Envision Fall Leadership Conference is the premier kickoff event of the membership year\, designed to ignite passion and purpose in emerging student leaders. Held in Tampa\, this immersive weekend brings together over 400 DECA members for a packed schedule of workshops\, competitions\, and team-building activities. From high-energy sessions like “DECA After Dark” to leadership development programming crafted by Florida DECA’s own Team 68\, this conference prepares attendees with essential 21st-century skills and inspiration to energize their local chapters. \nBeyond the classroom\, students will experience the fun side of leadership with a trip to Busch Gardens and social experiences with members from across the state. Advisors and students alike can look forward to engaging breakout sessions\, competition simulations\, and exciting announcements—all set in a professional and secure environment. If your chapter is looking to kick off the year with momentum\, the Envision conference is an opportunity you won’t want to miss.
URL:https://fldeca.org/event/fall-leadership-conference-tampa/
CATEGORIES:FL DECA Calendar
END:VEVENT
BEGIN:VEVENT
DTSTART;VALUE=DATE:20251023
DTEND;VALUE=DATE:20251026
DTSTAMP:20260422T203225
CREATED:20251030T184358Z
LAST-MODIFIED:20251030T184617Z
UID:1431-1761177600-1761436799@fldeca.org
SUMMARY:Engage Conference (Tampa)
DESCRIPTION:A premier leadership and professional development event designed for college students. Attendees gain insights from industry professionals\, network with peers from across the country\, and build the skills needed for success in business and entrepreneurship.
URL:https://fldeca.org/event/engage-conference-tampa/
CATEGORIES:Collegiate Calendar
END:VEVENT
BEGIN:VEVENT
DTSTART;TZID=America/New_York:20251020T180000
DTEND;TZID=America/New_York:20251020T190000
DTSTAMP:20260422T203225
CREATED:20250823T221941Z
LAST-MODIFIED:20251030T183718Z
UID:1172-1760983200-1760986800@fldeca.org
SUMMARY:Calling Florida Forward (CFF) - Call #3
DESCRIPTION:Calling Florida Forward (CFF) is an engaging and informational call hosted every month by Team 68! This is the key method by which the Florida DECA Association communicates with our members throughout the year. The call features important updates and information to help you Go The Extra. Also\, get hyped for our lineup of Career Connect Series speakers at this year’s calls. Part of CFF\, we invite you to ask questions to industry professionals to gain key insight into emerging business trends in fields you want to explore. We can’t wait to see you at 6 PM EST! \nhttps://zoom.us/j/97939898993
URL:https://fldeca.org/event/calling-florida-forward-cff-call-3/
CATEGORIES:CFF Calls,FL DECA Calendar
END:VEVENT
BEGIN:VEVENT
DTSTART;TZID=America/New_York:20250929T180000
DTEND;TZID=America/New_York:20250929T190000
DTSTAMP:20260422T203225
CREATED:20250823T220621Z
LAST-MODIFIED:20251030T183722Z
UID:1163-1759168800-1759172400@fldeca.org
SUMMARY:Calling Florida Forward (CFF) - Call #2
DESCRIPTION:Calling Florida Forward (CFF) is an engaging and informational call hosted every month by Team 68! This is the key method by which the Florida DECA Association communicates with our members throughout the year. The call features important updates and information to help you Go The Extra. Also\, get hyped for our lineup of Career Connect Series speakers at this year’s calls. Part of CFF\, we invite you to ask questions to industry professionals to gain key insight into emerging business trends in fields you want to explore. We can’t wait to see you at 6 PM EST! \nhttps://zoom.us/j/97939898993
URL:https://fldeca.org/event/calling-florida-forward-cff-call-2/
CATEGORIES:CFF Calls,FL DECA Calendar
END:VEVENT
BEGIN:VEVENT
DTSTART;VALUE=DATE:20250924
DTEND;VALUE=DATE:20250925
DTSTAMP:20260422T203225
CREATED:20250802T223914Z
LAST-MODIFIED:20251030T183725Z
UID:1076-1758672000-1758758399@fldeca.org
SUMMARY:Envision Conference Registration Due
DESCRIPTION:Chapters must submit registration for the Envision Fall Leadership Conference by September 24\, 2025 to secure their spots. Space is limited\, so timely registration ensures your members can participate in leadership development workshops and activities.
URL:https://fldeca.org/event/envision-conference-registration-due/
CATEGORIES:FL DECA Calendar
END:VEVENT
BEGIN:VEVENT
DTSTART;VALUE=DATE:20250908
DTEND;VALUE=DATE:20251115
DTSTAMP:20260422T203225
CREATED:20251030T184836Z
LAST-MODIFIED:20251030T184836Z
UID:1437-1757289600-1763164799@fldeca.org
SUMMARY:Collegiate Stock Market Game
DESCRIPTION:Collegiate DECA offers two competitive rounds of the Stock Market Game\, provided by the SIFMA Foundation. The Collegiate DECA Stock Market Game challenges teams of one to three Collegiate DECA members to work together to build and manage a high-performing investment portfolio of stocks\, bonds and mutual funds. Participants in the Collegiate DECA Stock Market Game develop and manage a virtual investment portfolio. The challenge is conducted online and calls teams of Collegiate DECA members to test their investment acumen against each other. The goal of the competition is to increase the value of the beginning portfolio\, while maintaining a diversified mix of stocks\, bonds and mutual funds.
URL:https://fldeca.org/event/collegiate-stock-market-game/
CATEGORIES:Collegiate Calendar
END:VEVENT
BEGIN:VEVENT
DTSTART;TZID=America/New_York:20250825T180000
DTEND;TZID=America/New_York:20250825T190000
DTSTAMP:20260422T203225
CREATED:20250823T220336Z
LAST-MODIFIED:20251030T183729Z
UID:1157-1756144800-1756148400@fldeca.org
SUMMARY:Calling Florida Forward (CFF) - Call #1
DESCRIPTION:Calling Florida Forward (CFF) is an engaging and informational call hosted every month by Team 68! This is the key method by which the Florida DECA Association communicates with our members throughout the year. The call features important updates and information to help you Go The Extra. Also\, get hyped for our lineup of Career Connect Series speakers at this year’s calls. Part of CFF\, we invite you to ask questions to industry professionals to gain key insight into emerging business trends in fields you want to explore. We can’t wait to see you at 6 PM EST! \nhttps://zoom.us/j/97939898993
URL:https://fldeca.org/event/calling-florida-forward-cff-call-1/
CATEGORIES:CFF Calls,FL DECA Calendar
END:VEVENT
END:VCALENDAR