BEGIN:VCALENDAR
VERSION:2.0
PRODID:-//Florida DECA - ECPv6.15.20//NONSGML v1.0//EN
CALSCALE:GREGORIAN
METHOD:PUBLISH
X-ORIGINAL-URL:https://fldeca.org
X-WR-CALDESC:Events for Florida DECA
REFRESH-INTERVAL;VALUE=DURATION:PT1H
X-Robots-Tag:noindex
X-PUBLISHED-TTL:PT1H
BEGIN:VTIMEZONE
TZID:America/New_York
BEGIN:DAYLIGHT
TZOFFSETFROM:-0500
TZOFFSETTO:-0400
TZNAME:EDT
DTSTART:20240310T070000
END:DAYLIGHT
BEGIN:STANDARD
TZOFFSETFROM:-0400
TZOFFSETTO:-0500
TZNAME:EST
DTSTART:20241103T060000
END:STANDARD
BEGIN:DAYLIGHT
TZOFFSETFROM:-0500
TZOFFSETTO:-0400
TZNAME:EDT
DTSTART:20250309T070000
END:DAYLIGHT
BEGIN:STANDARD
TZOFFSETFROM:-0400
TZOFFSETTO:-0500
TZNAME:EST
DTSTART:20251102T060000
END:STANDARD
BEGIN:DAYLIGHT
TZOFFSETFROM:-0500
TZOFFSETTO:-0400
TZNAME:EDT
DTSTART:20260308T070000
END:DAYLIGHT
BEGIN:STANDARD
TZOFFSETFROM:-0400
TZOFFSETTO:-0500
TZNAME:EST
DTSTART:20261101T060000
END:STANDARD
END:VTIMEZONE
BEGIN:VEVENT
DTSTART;TZID=America/New_York:20251208T180000
DTEND;TZID=America/New_York:20251208T190000
DTSTAMP:20260422T204413
CREATED:20250823T222121Z
LAST-MODIFIED:20251030T183654Z
UID:1176-1765216800-1765220400@fldeca.org
SUMMARY:Calling Florida Forward (CFF) - Call #5
DESCRIPTION:Calling Florida Forward (CFF) is an engaging and informational call hosted every month by Team 68! This is the key method by which the Florida DECA Association communicates with our members throughout the year. The call features important updates and information to help you Go The Extra. Also\, get hyped for our lineup of Career Connect Series speakers at this year’s calls. Part of CFF\, we invite you to ask questions to industry professionals to gain key insight into emerging business trends in fields you want to explore. We can’t wait to see you at 6 PM EST! \nhttps://zoom.us/j/97939898993
URL:https://fldeca.org/event/calling-florida-forward-cff-call-5/
CATEGORIES:CFF Calls,FL DECA Calendar
END:VEVENT
BEGIN:VEVENT
DTSTART;VALUE=DATE:20251220
DTEND;VALUE=DATE:20251221
DTSTAMP:20260422T204413
CREATED:20251030T184102Z
LAST-MODIFIED:20251030T184102Z
UID:1428-1766188800-1766275199@fldeca.org
SUMMARY:Initial Membership Roster Deadline
DESCRIPTION:Deadline for submitting the official chapter membership roster to remain eligible for DECA recognition\, conferences\, and competition.
URL:https://fldeca.org/event/initial-membership-roster-deadline/
CATEGORIES:Collegiate Calendar
END:VEVENT
END:VCALENDAR