BEGIN:VCALENDAR
VERSION:2.0
PRODID:-//Florida DECA - ECPv6.15.20//NONSGML v1.0//EN
CALSCALE:GREGORIAN
METHOD:PUBLISH
X-WR-CALNAME:Florida DECA
X-ORIGINAL-URL:https://fldeca.org
X-WR-CALDESC:Events for Florida DECA
REFRESH-INTERVAL;VALUE=DURATION:PT1H
X-Robots-Tag:noindex
X-PUBLISHED-TTL:PT1H
BEGIN:VTIMEZONE
TZID:America/New_York
BEGIN:DAYLIGHT
TZOFFSETFROM:-0500
TZOFFSETTO:-0400
TZNAME:EDT
DTSTART:20250309T070000
END:DAYLIGHT
BEGIN:STANDARD
TZOFFSETFROM:-0400
TZOFFSETTO:-0500
TZNAME:EST
DTSTART:20251102T060000
END:STANDARD
BEGIN:DAYLIGHT
TZOFFSETFROM:-0500
TZOFFSETTO:-0400
TZNAME:EDT
DTSTART:20260308T070000
END:DAYLIGHT
BEGIN:STANDARD
TZOFFSETFROM:-0400
TZOFFSETTO:-0500
TZNAME:EST
DTSTART:20261101T060000
END:STANDARD
BEGIN:DAYLIGHT
TZOFFSETFROM:-0500
TZOFFSETTO:-0400
TZNAME:EDT
DTSTART:20270314T070000
END:DAYLIGHT
BEGIN:STANDARD
TZOFFSETFROM:-0400
TZOFFSETTO:-0500
TZNAME:EST
DTSTART:20271107T060000
END:STANDARD
END:VTIMEZONE
BEGIN:VEVENT
DTSTART;VALUE=DATE:20260128
DTEND;VALUE=DATE:20260202
DTSTAMP:20260422T170825
CREATED:20250626T202627Z
LAST-MODIFIED:20251030T183622Z
UID:725-1769558400-1769990399@fldeca.org
SUMMARY:DECA Sports and Entertainment Marketing Conference (Orlando\, FL)
DESCRIPTION:This exciting conference immerses students in the fast-paced world of sports and entertainment marketing through exclusive presentations\, interactive sessions\, and behind-the-scenes tours. Attendees will hear from industry leaders and professionals representing major sports teams\, entertainment venues\, and media companies. Students will explore topics like sponsorship strategy\, fan engagement\, event management\, and career paths in the field. With Orlando as the backdrop\, this conference delivers real-world insights into one of the most dynamic areas of marketing\, making it a favorite for students across the state.
URL:https://fldeca.org/event/sem-conference/
LOCATION:Universal’s Cabana Bay Beach Resort\, 6550 Adventure Way\, Orlando\, Florida\, 32819
CATEGORIES:FL DECA Calendar
END:VEVENT
BEGIN:VEVENT
DTSTART;VALUE=DATE:20260202
DTEND;VALUE=DATE:20260203
DTSTAMP:20260422T170825
CREATED:20250802T224127Z
LAST-MODIFIED:20251030T183616Z
UID:1080-1769990400-1770076799@fldeca.org
SUMMARY:CDC Registration Due
DESCRIPTION:All chapter registrations for the Florida Career Development Conference (CDC) must be submitted by February 2\, 2025. The CDC is Florida DECA’s largest event of the year\, where students showcase their skills through competitive events\, leadership sessions\, and networking opportunities.
URL:https://fldeca.org/event/cdc-registration-due/
CATEGORIES:FL DECA Calendar
END:VEVENT
END:VCALENDAR